BEGIN:VCALENDAR
VERSION:2.0
PRODID:-//Tukios.com/
BEGIN:VEVENT
UID:fb8d7587-73f3-45e5-8134-1b00d23ef2bf@www.hanlinfuneralhome.com
DTSTAMP:20260424T210432Z
DTSTART:20260427T160000Z
DTEND:20260427T230000Z
SUMMARY:Visitation
DESCRIPTION:
URL:https://www.hanlinfuneralhome.com/obituaries/bill-woolwine-jr
LOCATION: 4823 W. Main Street  Millington MI 48746
GEO:43.2809938;-83.5322142
END:VEVENT
END:VCALENDAR