BEGIN:VCALENDAR
VERSION:2.0
PRODID:-//Tukios.com/
BEGIN:VEVENT
UID:3b73a8f9-2873-434e-972b-62d5b77acf85@www.hanlinfuneralhome.com
DTSTAMP:20260424T211345Z
DTSTART:20260428T160000Z
DTEND:20260428T170000Z
SUMMARY:Visitation at Church
DESCRIPTION:
URL:https://www.hanlinfuneralhome.com/obituaries/bill-woolwine-jr
LOCATION: 4941 Center St  Millington MI 48746
GEO:43.2793607;-83.5372518
END:VEVENT
END:VCALENDAR