BEGIN:VCALENDAR
VERSION:2.0
PRODID:-//Tukios.com/
BEGIN:VEVENT
UID:3f729a3f-455a-4f8d-84c2-41c9824e65f5@www.hanlinfuneralhome.com
DTSTAMP:20260424T211259Z
DTSTART:20260428T170000Z
DTEND:20260428T180000Z
SUMMARY:Funeral Service at Church
DESCRIPTION:
URL:https://www.hanlinfuneralhome.com/obituaries/bill-woolwine-jr
LOCATION: 4941 Center St  Millington MI 48746
GEO:43.2793607;-83.5372518
END:VEVENT
END:VCALENDAR