BEGIN:VCALENDAR
VERSION:2.0
PRODID:-//Tukios.com/
BEGIN:VEVENT
UID:11545a90-afeb-4dfd-8a34-c8555fdf2f77@www.hanlinfuneralhome.com
DTSTAMP:20260424T211058Z
DTSTART:20260428T180000Z
DTEND:20260428T190000Z
SUMMARY:Graveside Service
DESCRIPTION:
URL:https://www.hanlinfuneralhome.com/obituaries/bill-woolwine-jr
LOCATION: 4921 Main St  Millington MI 48746
GEO:43.2811847;-83.5366929
END:VEVENT
END:VCALENDAR