BEGIN:VCALENDAR
VERSION:2.0
PRODID:-//Tukios.com/
BEGIN:VEVENT
UID:86dcdb90-8315-4bf9-b3e6-f7775264d62e@www.hanlinfuneralhome.com
DTSTAMP:20260423T194845Z
DTSTART:20260429T150000Z
DTEND:20260429T170000Z
SUMMARY:Visitation at Church
DESCRIPTION:
URL:https://www.hanlinfuneralhome.com/obituaries/kenneth-strohm
LOCATION: 5880 Frankenmuth Rd  Vassar MI 48768
GEO:43.3611312;-83.6013313
END:VEVENT
END:VCALENDAR