BEGIN:VCALENDAR
VERSION:2.0
PRODID:-//Tukios.com/
BEGIN:VEVENT
UID:6ab898d8-bd35-40f3-8363-9a5f5c6b3781@www.hanlinfuneralhome.com
DTSTAMP:20260423T195018Z
DTSTART:20260429T170000Z
DTEND:20260429T180000Z
SUMMARY:Funeral Service at Church
DESCRIPTION:
URL:https://www.hanlinfuneralhome.com/obituaries/kenneth-strohm
LOCATION: 5880 Frankenmuth Rd  Vassar MI 48768
GEO:43.3611312;-83.6013313
END:VEVENT
END:VCALENDAR